BEGIN:VCALENDAR
VERSION:2.0
PRODID:-//Nordost Blog - ECPv6.15.17//NONSGML v1.0//EN
CALSCALE:GREGORIAN
METHOD:PUBLISH
X-ORIGINAL-URL:https://nordost.com/blog
X-WR-CALDESC:Events for Nordost Blog
REFRESH-INTERVAL;VALUE=DURATION:PT1H
X-Robots-Tag:noindex
X-PUBLISHED-TTL:PT1H
BEGIN:VTIMEZONE
TZID:America/New_York
BEGIN:DAYLIGHT
TZOFFSETFROM:-0500
TZOFFSETTO:-0400
TZNAME:EDT
DTSTART:20200308T070000
END:DAYLIGHT
BEGIN:STANDARD
TZOFFSETFROM:-0400
TZOFFSETTO:-0500
TZNAME:EST
DTSTART:20201101T060000
END:STANDARD
BEGIN:DAYLIGHT
TZOFFSETFROM:-0500
TZOFFSETTO:-0400
TZNAME:EDT
DTSTART:20210314T070000
END:DAYLIGHT
BEGIN:STANDARD
TZOFFSETFROM:-0400
TZOFFSETTO:-0500
TZNAME:EST
DTSTART:20211107T060000
END:STANDARD
BEGIN:DAYLIGHT
TZOFFSETFROM:-0500
TZOFFSETTO:-0400
TZNAME:EDT
DTSTART:20220313T070000
END:DAYLIGHT
BEGIN:STANDARD
TZOFFSETFROM:-0400
TZOFFSETTO:-0500
TZNAME:EST
DTSTART:20221106T060000
END:STANDARD
END:VTIMEZONE
BEGIN:VEVENT
DTSTART;VALUE=DATE:20210924
DTEND;VALUE=DATE:20210926
DTSTAMP:20260425T203120
CREATED:20210917T142850Z
LAST-MODIFIED:20210917T142850Z
UID:6455-1632441600-1632614399@nordost.com
SUMMARY:Liquid Sound – Grand Reopening
DESCRIPTION:“Liquid Sound welcomes you to their grand reopening. Join us to view our brand new sound rooms\, home theater room and new products on display. Guest presentations by leading brands. Door prizes and hand selected craft beer and beverages” \nNordost product expert\, Bruno de Lorimier\, will be on hand to demonstrate products and answer your questions. \n\n  \nLiquid Sound \nSept 24th & 25th\, 2021 \n10:00 AM – 6:00 PM \n4320 WEST 10TH AVENUE\, VANCOUVER\, BC \nRSVP Contact: info@liquidsound.ca \nwww.liquidsound.ca \n 
URL:https://nordost.com/blog/event/liquid-sound-grand-reopening/
ATTACH;FMTTYPE=image/jpeg:https://nordost.com/blog/wp-content/uploads/2021/09/liquid-sound_grand-opening.jpg
END:VEVENT
END:VCALENDAR