BEGIN:VCALENDAR
VERSION:2.0
PRODID:-//Nordost Blog - ECPv6.15.17//NONSGML v1.0//EN
CALSCALE:GREGORIAN
METHOD:PUBLISH
X-WR-CALNAME:Nordost Blog
X-ORIGINAL-URL:https://nordost.com/blog
X-WR-CALDESC:Events for Nordost Blog
REFRESH-INTERVAL;VALUE=DURATION:PT1H
X-Robots-Tag:noindex
X-PUBLISHED-TTL:PT1H
BEGIN:VTIMEZONE
TZID:America/New_York
BEGIN:DAYLIGHT
TZOFFSETFROM:-0500
TZOFFSETTO:-0400
TZNAME:EDT
DTSTART:20230312T070000
END:DAYLIGHT
BEGIN:STANDARD
TZOFFSETFROM:-0400
TZOFFSETTO:-0500
TZNAME:EST
DTSTART:20231105T060000
END:STANDARD
BEGIN:DAYLIGHT
TZOFFSETFROM:-0500
TZOFFSETTO:-0400
TZNAME:EDT
DTSTART:20240310T070000
END:DAYLIGHT
BEGIN:STANDARD
TZOFFSETFROM:-0400
TZOFFSETTO:-0500
TZNAME:EST
DTSTART:20241103T060000
END:STANDARD
BEGIN:DAYLIGHT
TZOFFSETFROM:-0500
TZOFFSETTO:-0400
TZNAME:EDT
DTSTART:20250309T070000
END:DAYLIGHT
BEGIN:STANDARD
TZOFFSETFROM:-0400
TZOFFSETTO:-0500
TZNAME:EST
DTSTART:20251102T060000
END:STANDARD
END:VTIMEZONE
BEGIN:VEVENT
DTSTART;TZID=America/New_York:20240621T150000
DTEND;TZID=America/New_York:20240621T190000
DTSTAMP:20260420T133748
CREATED:20240607T194849Z
LAST-MODIFIED:20240607T194849Z
UID:8585-1718982000-1718996400@nordost.com
SUMMARY:Nuts About HiFi Event
DESCRIPTION:June 21\, 2024 \n3:00pm – 7:00pm \n9960 Silverdale Way #3\nSilverdale\, WA 98383 \nwww.nutsabouthifi.com \n 
URL:https://nordost.com/blog/event/nuts-about-hifi-event/
LOCATION:Nuts About HiFi\, 9960 Silverdale Way #3\, Silverdale\, WA\, 98383
CATEGORIES:Nordost Dealer Event
ATTACH;FMTTYPE=image/jpeg:https://nordost.com/blog/wp-content/uploads/2024/06/Nuts-About-Hi-Fi_Nordost-event_6-24.jpg
END:VEVENT
END:VCALENDAR