BEGIN:VCALENDAR
VERSION:2.0
PRODID:-//Nordost Blog - ECPv6.15.17//NONSGML v1.0//EN
CALSCALE:GREGORIAN
METHOD:PUBLISH
X-ORIGINAL-URL:https://nordost.com/blog
X-WR-CALDESC:Events for Nordost Blog
REFRESH-INTERVAL;VALUE=DURATION:PT1H
X-Robots-Tag:noindex
X-PUBLISHED-TTL:PT1H
BEGIN:VTIMEZONE
TZID:America/New_York
BEGIN:DAYLIGHT
TZOFFSETFROM:-0500
TZOFFSETTO:-0400
TZNAME:EDT
DTSTART:20220313T070000
END:DAYLIGHT
BEGIN:STANDARD
TZOFFSETFROM:-0400
TZOFFSETTO:-0500
TZNAME:EST
DTSTART:20221106T060000
END:STANDARD
BEGIN:DAYLIGHT
TZOFFSETFROM:-0500
TZOFFSETTO:-0400
TZNAME:EDT
DTSTART:20230312T070000
END:DAYLIGHT
BEGIN:STANDARD
TZOFFSETFROM:-0400
TZOFFSETTO:-0500
TZNAME:EST
DTSTART:20231105T060000
END:STANDARD
BEGIN:DAYLIGHT
TZOFFSETFROM:-0500
TZOFFSETTO:-0400
TZNAME:EDT
DTSTART:20240310T070000
END:DAYLIGHT
BEGIN:STANDARD
TZOFFSETFROM:-0400
TZOFFSETTO:-0500
TZNAME:EST
DTSTART:20241103T060000
END:STANDARD
END:VTIMEZONE
BEGIN:VEVENT
DTSTART;TZID=America/New_York:20230916T100000
DTEND;TZID=America/New_York:20230916T120000
DTSTAMP:20260423T180224
CREATED:20230725T140814Z
LAST-MODIFIED:20230725T140814Z
UID:7904-1694858400-1694865600@nordost.com
SUMMARY:AudioConcepts Event: A Musical Morning with Nordost
DESCRIPTION:  \nA Musical Morning with Nordost \nFeaturing Nordost’s Latest World-Renowned Accessories:  The QSINE\, QWAVE\, QBASE MARK III\, and QNET \n  \nSaturday\, September 16\, 2023 \n10 a.m. to 12 noon \nAmy Hansen from Nordost will be in the house to give live demonstrations and answer questions. \n  \n11661 Preston Rd\, Ste 280 Dallas\, TX 75230 \nRSVP: (214) 360-9520 \naudioconceptsonline.com \n  \n \n 
URL:https://nordost.com/blog/event/audioconcepts-event-a-musical-morning-with-nordost/
LOCATION:AudioConcepts\, 11661 Preston Rd\, Suite 280\, Dallas\, TX\, 75230\, United States
CATEGORIES:Nordost Dealer Event
ATTACH;FMTTYPE=image/jpeg:https://nordost.com/blog/wp-content/uploads/2023/07/AudioConcepts_event.jpg
END:VEVENT
END:VCALENDAR