BEGIN:VCALENDAR
VERSION:2.0
PRODID:-//Nordost Blog - ECPv6.15.17//NONSGML v1.0//EN
CALSCALE:GREGORIAN
METHOD:PUBLISH
X-ORIGINAL-URL:https://nordost.com/blog
X-WR-CALDESC:Events for Nordost Blog
REFRESH-INTERVAL;VALUE=DURATION:PT1H
X-Robots-Tag:noindex
X-PUBLISHED-TTL:PT1H
BEGIN:VTIMEZONE
TZID:America/New_York
BEGIN:DAYLIGHT
TZOFFSETFROM:-0500
TZOFFSETTO:-0400
TZNAME:EDT
DTSTART:20210314T070000
END:DAYLIGHT
BEGIN:STANDARD
TZOFFSETFROM:-0400
TZOFFSETTO:-0500
TZNAME:EST
DTSTART:20211107T060000
END:STANDARD
BEGIN:DAYLIGHT
TZOFFSETFROM:-0500
TZOFFSETTO:-0400
TZNAME:EDT
DTSTART:20220313T070000
END:DAYLIGHT
BEGIN:STANDARD
TZOFFSETFROM:-0400
TZOFFSETTO:-0500
TZNAME:EST
DTSTART:20221106T060000
END:STANDARD
BEGIN:DAYLIGHT
TZOFFSETFROM:-0500
TZOFFSETTO:-0400
TZNAME:EDT
DTSTART:20230312T070000
END:DAYLIGHT
BEGIN:STANDARD
TZOFFSETFROM:-0400
TZOFFSETTO:-0500
TZNAME:EST
DTSTART:20231105T060000
END:STANDARD
END:VTIMEZONE
BEGIN:VEVENT
DTSTART;TZID=America/New_York:20221029T160000
DTEND;TZID=America/New_York:20221029T160000
DTSTAMP:20260424T233052
CREATED:20221011T134838Z
LAST-MODIFIED:20221011T135617Z
UID:7305-1667059200-1667059200@nordost.com
SUMMARY:3mA Spooktacular Audio Show
DESCRIPTION:  \nTo celebrate the Halloween season\, join us (in costume or not) for a fun evening\, listening to some incredible systems featuring Acora Acoustics\, Magico\, dCS\, and Nordost! \nSaturday October 29th \n4pm till the last person leaves \n1431 West Alabama St\, Houston TX 77006 \nCome enjoy fun exhibitions\, giveaways\, drinks\, and even a food truck! \nPlease RSVP at your convenience to Sales@3maaudio.com \n 
URL:https://nordost.com/blog/event/3ma-spooktacular-audio-show/
LOCATION:3mA AUDIO\, 1431 W. Alabama St\, Houston\, TX\, 77006
CATEGORIES:Nordost Dealer Event
ATTACH;FMTTYPE=image/jpeg:https://nordost.com/blog/wp-content/uploads/2022/10/3MA-Spooktacular_22.jpg
END:VEVENT
END:VCALENDAR