BEGIN:VCALENDAR
VERSION:2.0
PRODID:-//Nordost Blog - ECPv6.15.17//NONSGML v1.0//EN
CALSCALE:GREGORIAN
METHOD:PUBLISH
X-WR-CALNAME:Nordost Blog
X-ORIGINAL-URL:https://nordost.com/blog
X-WR-CALDESC:Events for Nordost Blog
REFRESH-INTERVAL;VALUE=DURATION:PT1H
X-Robots-Tag:noindex
X-PUBLISHED-TTL:PT1H
BEGIN:VTIMEZONE
TZID:America/New_York
BEGIN:DAYLIGHT
TZOFFSETFROM:-0500
TZOFFSETTO:-0400
TZNAME:EDT
DTSTART:20210314T070000
END:DAYLIGHT
BEGIN:STANDARD
TZOFFSETFROM:-0400
TZOFFSETTO:-0500
TZNAME:EST
DTSTART:20211107T060000
END:STANDARD
BEGIN:DAYLIGHT
TZOFFSETFROM:-0500
TZOFFSETTO:-0400
TZNAME:EDT
DTSTART:20220313T070000
END:DAYLIGHT
BEGIN:STANDARD
TZOFFSETFROM:-0400
TZOFFSETTO:-0500
TZNAME:EST
DTSTART:20221106T060000
END:STANDARD
BEGIN:DAYLIGHT
TZOFFSETFROM:-0500
TZOFFSETTO:-0400
TZNAME:EDT
DTSTART:20230312T070000
END:DAYLIGHT
BEGIN:STANDARD
TZOFFSETFROM:-0400
TZOFFSETTO:-0500
TZNAME:EST
DTSTART:20231105T060000
END:STANDARD
END:VTIMEZONE
BEGIN:VEVENT
DTSTART;TZID=America/New_York:20221202T160000
DTEND;TZID=America/New_York:20221202T200000
DTSTAMP:20260424T083612
CREATED:20221116T201830Z
LAST-MODIFIED:20221116T201830Z
UID:7370-1669996800-1670011200@nordost.com
SUMMARY:Nuts About HiFi Dealer Event
DESCRIPTION:  \nJoin us for a fun evening\, listening to some incredible\nsystems featuring Focal\, JL Audio\, and Nordost. \nAlso featuring local artist Corey Bennett Anderson and Sun Dog Wines! \n  \nDecember 2\, 2022 \n4pm – 8pm \n9960 Silverdale Way #3 Silverdale\, WA 98383 \nRSVP to jim@nutsabouthifi.com or (360) 698-1348 \nwww.nutsabouthifi.com \n\n 
URL:https://nordost.com/blog/event/nuts-about-hifi-dealer-event/
LOCATION:Nuts About HiFi\, 9960 Silverdale Way #3\, Silverdale\, WA\, 98383
CATEGORIES:Nordost Dealer Event
ATTACH;FMTTYPE=image/jpeg:https://nordost.com/blog/wp-content/uploads/2022/11/Nuts-about-hifi-dealer-even-postcard_1.jpg
END:VEVENT
END:VCALENDAR