BEGIN:VCALENDAR
VERSION:2.0
PRODID:-//Nordost Blog - ECPv6.15.17//NONSGML v1.0//EN
CALSCALE:GREGORIAN
METHOD:PUBLISH
X-WR-CALNAME:Nordost Blog
X-ORIGINAL-URL:https://nordost.com/blog
X-WR-CALDESC:Events for Nordost Blog
REFRESH-INTERVAL;VALUE=DURATION:PT1H
X-Robots-Tag:noindex
X-PUBLISHED-TTL:PT1H
BEGIN:VTIMEZONE
TZID:America/New_York
BEGIN:DAYLIGHT
TZOFFSETFROM:-0500
TZOFFSETTO:-0400
TZNAME:EDT
DTSTART:20200308T070000
END:DAYLIGHT
BEGIN:STANDARD
TZOFFSETFROM:-0400
TZOFFSETTO:-0500
TZNAME:EST
DTSTART:20201101T060000
END:STANDARD
BEGIN:DAYLIGHT
TZOFFSETFROM:-0500
TZOFFSETTO:-0400
TZNAME:EDT
DTSTART:20210314T070000
END:DAYLIGHT
BEGIN:STANDARD
TZOFFSETFROM:-0400
TZOFFSETTO:-0500
TZNAME:EST
DTSTART:20211107T060000
END:STANDARD
BEGIN:DAYLIGHT
TZOFFSETFROM:-0500
TZOFFSETTO:-0400
TZNAME:EDT
DTSTART:20220313T070000
END:DAYLIGHT
BEGIN:STANDARD
TZOFFSETFROM:-0400
TZOFFSETTO:-0500
TZNAME:EST
DTSTART:20221106T060000
END:STANDARD
END:VTIMEZONE
BEGIN:VEVENT
DTSTART;VALUE=DATE:20210923
DTEND;VALUE=DATE:20210924
DTSTAMP:20260425T232648
CREATED:20210917T135613Z
LAST-MODIFIED:20210917T135613Z
UID:6449-1632355200-1632441599@nordost.com
SUMMARY:audiofi – An Evening With Nordost
DESCRIPTION:audiofi invites you to attend:  AN EVENING WITH NORDOST \nA FREE event for audiophiles and music lovers \n\n\n\nBruno de Lorimier from Nordost will be on hand to answer your questions and play your favorite music. \nWine and Hors d`oeuvres will be served\, and there will be a door prize draw. \n\n\n\nSpecial pricing during event! \n\nSept 23rd\, 2021 \n6:30 – 9:30 PM \n127 East 4th Ave\, Vancouver\, BC \nSeats are limited.  Please RSVP by Sept 20th:  audiofiinc@gmail.com \n(604) 351-3485 \nAudiofi.ca
URL:https://nordost.com/blog/event/audiofi-an-evening-with-nordost/
CATEGORIES:Nordost Dealer Event
ATTACH;FMTTYPE=image/jpeg:https://nordost.com/blog/wp-content/uploads/2021/09/audiofi-event-thumb_3.jpg
END:VEVENT
END:VCALENDAR