BEGIN:VCALENDAR
VERSION:2.0
PRODID:-//Nordost Blog - ECPv6.15.17//NONSGML v1.0//EN
CALSCALE:GREGORIAN
METHOD:PUBLISH
X-WR-CALNAME:Nordost Blog
X-ORIGINAL-URL:https://nordost.com/blog
X-WR-CALDESC:Events for Nordost Blog
REFRESH-INTERVAL;VALUE=DURATION:PT1H
X-Robots-Tag:noindex
X-PUBLISHED-TTL:PT1H
BEGIN:VTIMEZONE
TZID:America/New_York
BEGIN:DAYLIGHT
TZOFFSETFROM:-0500
TZOFFSETTO:-0400
TZNAME:EDT
DTSTART:20220313T070000
END:DAYLIGHT
BEGIN:STANDARD
TZOFFSETFROM:-0400
TZOFFSETTO:-0500
TZNAME:EST
DTSTART:20221106T060000
END:STANDARD
BEGIN:DAYLIGHT
TZOFFSETFROM:-0500
TZOFFSETTO:-0400
TZNAME:EDT
DTSTART:20230312T070000
END:DAYLIGHT
BEGIN:STANDARD
TZOFFSETFROM:-0400
TZOFFSETTO:-0500
TZNAME:EST
DTSTART:20231105T060000
END:STANDARD
BEGIN:DAYLIGHT
TZOFFSETFROM:-0500
TZOFFSETTO:-0400
TZNAME:EDT
DTSTART:20240310T070000
END:DAYLIGHT
BEGIN:STANDARD
TZOFFSETFROM:-0400
TZOFFSETTO:-0500
TZNAME:EST
DTSTART:20241103T060000
END:STANDARD
END:VTIMEZONE
BEGIN:VEVENT
DTSTART;TZID=America/New_York:20230505T180000
DTEND;TZID=America/New_York:20230505T213000
DTSTAMP:20260424T071641
CREATED:20230419T150409Z
LAST-MODIFIED:20230419T150409Z
UID:7657-1683309600-1683322200@nordost.com
SUMMARY:AV Therapy Cinco de Mayo themed 10th Anniversary Groovy Event!
DESCRIPTION:AV Therapy \nFriday\, May 5\, 2023 \n6:00pm to 9:30pm \n216 Daniel Webster HWY\, Nashua\, NH 03060 \nRSVP: (603) 888-9777 or info@avtherapy.net \nwww.avtherapy.net
URL:https://nordost.com/blog/event/av-therapy-cinco-de-mayo-themed-10th-anniversary-groovy-event/
LOCATION:AV Therapy\, 216 Daniel Webster HWY\, Nashua\, NH\, 03060\, United States
CATEGORIES:Nordost Dealer Event
ATTACH;FMTTYPE=image/jpeg:https://nordost.com/blog/wp-content/uploads/2023/04/AV-Therapy-Event_post.jpg
END:VEVENT
END:VCALENDAR