BEGIN:VCALENDAR
VERSION:2.0
PRODID:-//Nordost Blog - ECPv6.15.17//NONSGML v1.0//EN
CALSCALE:GREGORIAN
METHOD:PUBLISH
X-ORIGINAL-URL:https://nordost.com/blog
X-WR-CALDESC:Events for Nordost Blog
REFRESH-INTERVAL;VALUE=DURATION:PT1H
X-Robots-Tag:noindex
X-PUBLISHED-TTL:PT1H
BEGIN:VTIMEZONE
TZID:America/New_York
BEGIN:DAYLIGHT
TZOFFSETFROM:-0500
TZOFFSETTO:-0400
TZNAME:EDT
DTSTART:20230312T070000
END:DAYLIGHT
BEGIN:STANDARD
TZOFFSETFROM:-0400
TZOFFSETTO:-0500
TZNAME:EST
DTSTART:20231105T060000
END:STANDARD
BEGIN:DAYLIGHT
TZOFFSETFROM:-0500
TZOFFSETTO:-0400
TZNAME:EDT
DTSTART:20240310T070000
END:DAYLIGHT
BEGIN:STANDARD
TZOFFSETFROM:-0400
TZOFFSETTO:-0500
TZNAME:EST
DTSTART:20241103T060000
END:STANDARD
BEGIN:DAYLIGHT
TZOFFSETFROM:-0500
TZOFFSETTO:-0400
TZNAME:EDT
DTSTART:20250309T070000
END:DAYLIGHT
BEGIN:STANDARD
TZOFFSETFROM:-0400
TZOFFSETTO:-0500
TZNAME:EST
DTSTART:20251102T060000
END:STANDARD
END:VTIMEZONE
BEGIN:VEVENT
DTSTART;VALUE=DATE:20241025
DTEND;VALUE=DATE:20241028
DTSTAMP:20260420T091726
CREATED:20240607T200004Z
LAST-MODIFIED:20240607T200010Z
UID:8588-1729814400-1730073599@nordost.com
SUMMARY:Audio Vision San Francisco - 25th Anniversary Event
DESCRIPTION:Oct 25 – 27th \n7:00pm – 11:00pm \nAudio Vision San Francisco \n1628 California Street\, San Francisco\, CA 94109 \nwww.audiovisionsf.com \n 
URL:https://nordost.com/blog/event/audio-vision-san-francisco-25th-anniversary-event/
LOCATION:Audio Vision San Francisco\, 1628 California Street\, San Francisco\, CA\, 94109\, United States
CATEGORIES:Nordost Dealer Event
ATTACH;FMTTYPE=image/jpeg:https://nordost.com/blog/wp-content/uploads/2024/06/AVSF_25th-anniversary-event.jpg
END:VEVENT
BEGIN:VEVENT
DTSTART;TZID=America/New_York:20241026T170000
DTEND;TZID=America/New_York:20241026T170000
DTSTAMP:20260420T091726
CREATED:20240911T160530Z
LAST-MODIFIED:20240911T160530Z
UID:8853-1729962000-1729962000@nordost.com
SUMMARY:3MA Spooktacular Audio Show
DESCRIPTION:Join us at 3MA Audio\, where we’ll be celebrating the Halloween season with some great music\, exhibitions\, drinks\, food\, and giveaways! \nNordost will be featured alongside MBL\, dCS\, Acora\, REL\, Boulder\, Magico\, Clear Audio\, and Qobuz. \n  \n 
URL:https://nordost.com/blog/event/3ma-spooktacular-audio-show-2/
LOCATION:3mA\, 3502 W. Alabama St.\, Houston\, TX\, 77027\, United States
CATEGORIES:Nordost Dealer Event
ATTACH;FMTTYPE=image/jpeg:https://nordost.com/blog/wp-content/uploads/2024/09/3MA-Spooktacular_event_24-1.jpg
END:VEVENT
END:VCALENDAR