BEGIN:VCALENDAR
VERSION:2.0
PRODID:-//Nordost Blog - ECPv6.15.17//NONSGML v1.0//EN
CALSCALE:GREGORIAN
METHOD:PUBLISH
X-WR-CALNAME:Nordost Blog
X-ORIGINAL-URL:https://nordost.com/blog
X-WR-CALDESC:Events for Nordost Blog
REFRESH-INTERVAL;VALUE=DURATION:PT1H
X-Robots-Tag:noindex
X-PUBLISHED-TTL:PT1H
BEGIN:VTIMEZONE
TZID:America/New_York
BEGIN:DAYLIGHT
TZOFFSETFROM:-0500
TZOFFSETTO:-0400
TZNAME:EDT
DTSTART:20230312T070000
END:DAYLIGHT
BEGIN:STANDARD
TZOFFSETFROM:-0400
TZOFFSETTO:-0500
TZNAME:EST
DTSTART:20231105T060000
END:STANDARD
BEGIN:DAYLIGHT
TZOFFSETFROM:-0500
TZOFFSETTO:-0400
TZNAME:EDT
DTSTART:20240310T070000
END:DAYLIGHT
BEGIN:STANDARD
TZOFFSETFROM:-0400
TZOFFSETTO:-0500
TZNAME:EST
DTSTART:20241103T060000
END:STANDARD
BEGIN:DAYLIGHT
TZOFFSETFROM:-0500
TZOFFSETTO:-0400
TZNAME:EDT
DTSTART:20250309T070000
END:DAYLIGHT
BEGIN:STANDARD
TZOFFSETFROM:-0400
TZOFFSETTO:-0500
TZNAME:EST
DTSTART:20251102T060000
END:STANDARD
END:VTIMEZONE
BEGIN:VEVENT
DTSTART;VALUE=DATE:20240322
DTEND;VALUE=DATE:20240325
DTSTAMP:20260421T101210
CREATED:20240305T172811Z
LAST-MODIFIED:20240305T172811Z
UID:8334-1711065600-1711324799@nordost.com
SUMMARY:Montréal Audiofest
DESCRIPTION:An audio enthusiast’s paradise! \n\nCelebrating its 35th edition this year\, Montreal Audiofest remains the must-attend event for audiophiles. This long-standing tradition showcases the latest advances in high-fidelity audio equipment\, featuring over 300 speaker brands\, innovative music streamers and high-quality headphones. \n\nAttendees engage with sound experts and industry insiders\, immersing themselves in music through some of the finest audio systems available. \n\nThis event surpasses mere product demonstrations\, offering enlightening talks by renowned speakers spanning audio history to technological advancements. Whether a seasoned audiophile or a curious newcomer\, the Montreal Audiofest guarantees an immersive exploration into the realm of high-quality sound\, establishing itself as a must-visit for anyone passionate about experiencing music’s profound impact through superior audio technology. \n\n  \nMarch 22 – 24\, 2024 \nRoom: Westmount 4 \nHôtel Bonaventure \n900 Rue De la Gauchetière O\, \nMontréal\, QC H5A 1E4 CAN \n  \naudiofest.ca/fr/montreal/ \n  \n 
URL:https://nordost.com/blog/event/montreal-audiofest/
LOCATION:Hotel Bonaventure\, 900 Rue de la Gauchetière O\, Montréal\, QC\, H5A 1E4\, Canada
CATEGORIES:Trade Shows
ATTACH;FMTTYPE=image/jpeg:https://nordost.com/blog/wp-content/uploads/2024/03/Montreal-Audiofest_event_24.jpg
END:VEVENT
BEGIN:VEVENT
DTSTART;TZID=America/New_York:20240328T170000
DTEND;TZID=America/New_York:20240328T200000
DTSTAMP:20260421T101210
CREATED:20240222T214834Z
LAST-MODIFIED:20240222T214834Z
UID:8292-1711645200-1711656000@nordost.com
SUMMARY:Upscale Audio – Sounds of Spring
DESCRIPTION:  \nMarch 28th \n5pm – 8pm \n  \nRepresentatives from Nordost\, Fyne Audio\, and T + A Elektroakustik will be on hand to discuss and demonstrate their products. \n  \n2058 Wright Ave\, La Verne\, CA 91750 \n  \n(909) 931-9686 \nwww.upscaleaudio.com \n 
URL:https://nordost.com/blog/event/upscale-audio-sounds-of-spring/
LOCATION:QC
CATEGORIES:Nordost Dealer Event
ATTACH;FMTTYPE=image/jpeg:https://nordost.com/blog/wp-content/uploads/2024/02/324093139_931318348040262_8051815937815015248_n.jpeg
END:VEVENT
BEGIN:VEVENT
DTSTART;VALUE=DATE:20240412
DTEND;VALUE=DATE:20240415
DTSTAMP:20260421T101210
CREATED:20240305T175050Z
LAST-MODIFIED:20240305T175251Z
UID:8341-1712880000-1713139199@nordost.com
SUMMARY:AXPONA
DESCRIPTION:  \n  \nThe three-day experience features multiple hotel floors packed with over 200 listening rooms. The Expo Hall featuring The Record Fair\, The Ear Gear Experience\, and seminars. Whether you’re a serious audiophile\, a newcomer to high-end audio or simply a music lover\, you’ll find everything you need to immerse yourself in your favorite sounds. \n\n  \nApril 12 – 14\, 2024 \nListening Room: Schaumburg F \nDemo Room: 716 \nRenaissance Schaumburg \nHotel & Convention Center \n1551 N Thoreau Dr \nSchaumburg IL\, 60173 \nwww.axpona.com \n  \n 
URL:https://nordost.com/blog/event/axpona-3/
LOCATION:Renaissance Schaumburg Hotel & Convention Center
CATEGORIES:Trade Shows
ATTACH;FMTTYPE=image/jpeg:https://nordost.com/blog/wp-content/uploads/2024/03/AXPONA-24.jpg
END:VEVENT
BEGIN:VEVENT
DTSTART;TZID=America/New_York:20240508T170000
DTEND;TZID=America/New_York:20240508T200000
DTSTAMP:20260421T101210
CREATED:20240503T135111Z
LAST-MODIFIED:20240503T135806Z
UID:8414-1715187600-1715198400@nordost.com
SUMMARY:The Music Room – Sources & Connections Event with Nordost & Innuos
DESCRIPTION:  \nFrom THE MUSIC ROOM:\n\n\n  \nTMR Double Feature With Nordost and Innuos!\n\n  \nJoin us inside TMR on Wednesday\, May 8th\, as we host a double-feature event with Nordost and Innuos inside our listening room.\n\n  \nHear from both brands why sources and connections matter. Nordost will be highlighting their Norse Series cables\, QRT\, and their flagship power product\, the QB10. For the second feature\, Innuos will be showcasing their Pulsar and Pulse network streamers.\n  \nAll those who join us will enter to win a free Nordost Red Dawn AC 1M Power Cord! Plus\, be one of the first 10 people to arrive\, and you will come home with a free pair of 2M Nordost 2 Flat Speaker Cable with Z-Plug Bananas.\n  \nWe hope you can join us for another event inside TMR\, so please RSVP here or by clicking the button below.\n\n  \nMake sure to claim your spot now\, as seats are limited.\n\n  \n\n\n  \n \n\n  \nDoors open at 5 p.m.\, and the demo begins at 6pm. Please see our address below for directions.\n  \nThe Music Room\n410 Jones Ct.\nErie\, CO 80516 \nWe can’t wait to see you there and experience our first ever double feature event! If you wish to join us\, please make sure to RSVP here or by clicking the button below.Happy Listening! \nThe Music Room \n  \n\n\n\n\n\n\n\n\n 
URL:https://nordost.com/blog/event/the-music-room-sources-connections-event-with-nordost-innuos/
LOCATION:The Music Room\, 410 Jones Ct.\, Erie\, CO\, 80516\, United States
CATEGORIES:Nordost Dealer Event
ATTACH;FMTTYPE=image/png:https://nordost.com/blog/wp-content/uploads/2024/05/Sources-and-Connections.png
END:VEVENT
BEGIN:VEVENT
DTSTART;VALUE=DATE:20240509
DTEND;VALUE=DATE:20240513
DTSTAMP:20260421T101210
CREATED:20240305T193826Z
LAST-MODIFIED:20240305T193826Z
UID:8349-1715212800-1715558399@nordost.com
SUMMARY:Munich High End 
DESCRIPTION:THE LEADING INTERNATIONAL AUDIO SHOW\nThe HIGH END\, the internationally renowned audio exhibition\, is the undisputed leader when it comes to impressively setting the tone for top-class music reproduction. It has been providing ideas and impetus for producers\, sellers and consumers of high-quality consumer electronics for four decades. On the four days of the event\, the entire world of audio experts and professionals gather in Munich to visit hundreds of exhibitors from more than 40 different countries as they showcase their latest innovations in the halls and atriums of the MOC event centre. \nWe look forward to seeing you at the HIGH END! \n  \n  \nMay 9 – 12\, 2024 \nRoom:  (Halle 4) Atrium 4\, E112 \nMOC\, Munich \nwww.highendsociety.de/high-end-44.html \n  \n 
URL:https://nordost.com/blog/event/munich-high-end/
LOCATION:MOC\, Lilienthalallee 40\, München\, 80939\, Germany
CATEGORIES:Trade Shows
ATTACH;FMTTYPE=image/jpeg:https://nordost.com/blog/wp-content/uploads/2024/03/High-End_event_24.jpg
END:VEVENT
BEGIN:VEVENT
DTSTART;TZID=America/New_York:20240601T160000
DTEND;TZID=America/New_York:20240601T160000
DTSTAMP:20260421T101210
CREATED:20240318T152646Z
LAST-MODIFIED:20240318T152646Z
UID:8371-1717257600-1717257600@nordost.com
SUMMARY:3mA Grand Opening
DESCRIPTION:Come celebrate 3mA’s Grand Opening in their new location: \n3502 W. Alabama St. Houston\, TX 77027 \nSaturday June 1st \n4PM \nHear from some of the top brands in the industry: \nMagico\, Nordost\, Boulder\, Acora\, MBL \n 
URL:https://nordost.com/blog/event/3ma-grand-opening/
LOCATION:3mA\, 3502 W. Alabama St.\, Houston\, TX\, 77027\, United States
CATEGORIES:Nordost Dealer Event
ATTACH;FMTTYPE=image/jpeg:https://nordost.com/blog/wp-content/uploads/2024/03/3mA-Grand-Opening_1.jpg
END:VEVENT
BEGIN:VEVENT
DTSTART;TZID=America/New_York:20240613T100000
DTEND;TZID=America/New_York:20240613T170000
DTSTAMP:20260421T101210
CREATED:20240607T161041Z
LAST-MODIFIED:20240607T161041Z
UID:8573-1718272800-1718298000@nordost.com
SUMMARY:MSB Cascade DAC Event at Audio Video Integration
DESCRIPTION:AVi proudly introduces the brand new MSB Cascade DAC to the United States for one week only. \nFrom Monday June 10th through Saturday June 15th. \nSpecial event with Nordost: Thursday June 13th \nReservations strongly recommended:  RSVP HERE \n  \n10am – 5pm \n\nAudio Video Integration\n647 Francisco Blvd E\nSan Rafael\, CA\n94901
URL:https://nordost.com/blog/event/msb-cascade-dac-event-at-audio-video-integration/
LOCATION:Audio Video Integration\, 647 Francisco Blvd E\, San Rafael\, CA\, 94901\, United States
CATEGORIES:Nordost Dealer Event
ATTACH;FMTTYPE=image/jpeg:https://nordost.com/blog/wp-content/uploads/2024/06/audio-video-integration-event_1.jpg
END:VEVENT
END:VCALENDAR