BEGIN:VCALENDAR
VERSION:2.0
PRODID:-//Nordost Blog - ECPv6.15.17//NONSGML v1.0//EN
CALSCALE:GREGORIAN
METHOD:PUBLISH
X-WR-CALNAME:Nordost Blog
X-ORIGINAL-URL:https://nordost.com/blog
X-WR-CALDESC:Events for Nordost Blog
REFRESH-INTERVAL;VALUE=DURATION:PT1H
X-Robots-Tag:noindex
X-PUBLISHED-TTL:PT1H
BEGIN:VTIMEZONE
TZID:America/New_York
BEGIN:DAYLIGHT
TZOFFSETFROM:-0500
TZOFFSETTO:-0400
TZNAME:EDT
DTSTART:20230312T070000
END:DAYLIGHT
BEGIN:STANDARD
TZOFFSETFROM:-0400
TZOFFSETTO:-0500
TZNAME:EST
DTSTART:20231105T060000
END:STANDARD
BEGIN:DAYLIGHT
TZOFFSETFROM:-0500
TZOFFSETTO:-0400
TZNAME:EDT
DTSTART:20240310T070000
END:DAYLIGHT
BEGIN:STANDARD
TZOFFSETFROM:-0400
TZOFFSETTO:-0500
TZNAME:EST
DTSTART:20241103T060000
END:STANDARD
BEGIN:DAYLIGHT
TZOFFSETFROM:-0500
TZOFFSETTO:-0400
TZNAME:EDT
DTSTART:20250309T070000
END:DAYLIGHT
BEGIN:STANDARD
TZOFFSETFROM:-0400
TZOFFSETTO:-0500
TZNAME:EST
DTSTART:20251102T060000
END:STANDARD
END:VTIMEZONE
BEGIN:VEVENT
DTSTART;VALUE=DATE:20240809
DTEND;VALUE=DATE:20240812
DTSTAMP:20260423T024831
CREATED:20240620T154208Z
LAST-MODIFIED:20240620T154208Z
UID:8702-1723161600-1723420799@nordost.com
SUMMARY:Hong Kong High-End Audio Visual Show 2024
DESCRIPTION:  \nNordost will be attending the upcoming Hong Kong High-End Audio Video Show with our distributor\, Radar Audio. Come hear us August 9-11th! \n  \nInfo from the Audiotechnique website: \nThe 2024 Hong Kong Hi-End Audio Visual Show will hold from Aug 9-11 at the Hong Kong Convention Exhibition Centre. Apart from extending the scale to meet the demands from local and worldwide audio brands\, there will also be endless array of audio equipment and software as well as special live shows\, which cater to dealers\, distributors and manufacturers\, as well as music loving consumers. \nNumerous audio and visual brands joined our Show in the past\, and there are even more this year. Not only will there be new brands from Asia\, Europe and US\, new young local brands are equally enthusiastic. Exhibits include traditional 2-channel gears\, the new headphones from open back to wireless options. Headphones and new equipment\, visitors can try out new that fill everyone’s taste and budget products on spot as over a thousand brands will be exhibited. \nIn the music software zone\, there is a wide collection of vinyl and compact disc from all over the world\, both newly launched and used. Those who visit the “2024 Hong Kong Hi-End Audio Visual Show” will have the golden opportunity seeing all the latest audio/visual products and enjoying price discounts at the same time. \nThe opening hours of “The 2024 Hong Kong Hi-End Audio Visual Show” will be from 10 a.m. to 7 p.m. on 9 & 10 August\, and from 10 a.m. to 6 p.m. on 11 August. Every $100 ticket holder will be given a hybrid “The Perfect Sound 2024” SACD. For details and products information\, please visit our website and facebook page. \nAbout “Hong Kong Hi-End Audio Visual Show”\nStarting from 2003\, the Audiotechnique holds a 3-day international “Hong Kong Hi-End Audio Visual Show” in August each year. The Show is the biggest of its kind in Hong Kong. There are over 130 exhibitors and +31\,000 visitors (2023statistics). It attracts representatives from the audio field and audiophiles from China and all over the world including Japan\, Korea\, Europe and the US. It has been reckoned as one of the three most important Audio Visual Shows worldwide. \n 
URL:https://nordost.com/blog/event/hong-kong-high-end-audio-visual-show-2024/
LOCATION:Hong Kong Convention and Exhibition Centre\, 1 Expo Dr\, Wan Chai\, Hong Kong
CATEGORIES:Trade Shows
ATTACH;FMTTYPE=image/png:https://nordost.com/blog/wp-content/uploads/2024/06/AVShowevent.png
END:VEVENT
BEGIN:VEVENT
DTSTART;TZID=America/New_York:20240815T170000
DTEND;TZID=America/New_York:20240815T200000
DTSTAMP:20260423T024831
CREATED:20240715T150737Z
LAST-MODIFIED:20240726T204033Z
UID:8742-1723741200-1723752000@nordost.com
SUMMARY:The Groove OKC – Nordost Event
DESCRIPTION:  \nAugust 15\, 2024 \n  \nThree demo sessions starting at 5pm:  5-6pm\, 6-7pm\, and 7-8pm \n  \n714 N Broadway Ave\nOklahoma City\, OK 73102 \n  \nRSVP: (405) 608-1199 \n  \nwww.thegrooveokc.com \n  \n 
URL:https://nordost.com/blog/event/the-groove-okc-event/
LOCATION:The Groove OKC\, 714 N Broadway Ave\, Oklahoma City\, OK\, 73102\, United States
CATEGORIES:Nordost Dealer Event
ATTACH;FMTTYPE=image/jpeg:https://nordost.com/blog/wp-content/uploads/2024/07/The-Groove-hifi_Nordost-event_1.jpg
END:VEVENT
BEGIN:VEVENT
DTSTART;TZID=America/New_York:20240919T170000
DTEND;TZID=America/New_York:20240919T200000
DTSTAMP:20260423T024831
CREATED:20240726T203955Z
LAST-MODIFIED:20240726T203955Z
UID:8751-1726765200-1726776000@nordost.com
SUMMARY:Hanson Audio Video – Nordost Event
DESCRIPTION: September 19th 2024 \n  \n5pm – 8pm \n  \n10800 Montgomery Rd. Cincinnati OH\, 45242 \n  \nRSVP : (513) 563-0444 \n  \nwww.hansonav.com \n  \n 
URL:https://nordost.com/blog/event/hanson-audio-video-nordost-event/
LOCATION:Hanson AV\, 10800 Montgomery Road\, Cincinnati\, OH\, 45242\, United States
CATEGORIES:Nordost Dealer Event
ATTACH;FMTTYPE=image/jpeg:https://nordost.com/blog/wp-content/uploads/2024/07/Hanson-AV-Event-scaled.jpg
END:VEVENT
BEGIN:VEVENT
DTSTART;TZID=America/New_York:20240927T150000
DTEND;TZID=America/New_York:20240927T210000
DTSTAMP:20260423T024831
CREATED:20240920T140504Z
LAST-MODIFIED:20240920T140504Z
UID:8879-1727449200-1727470800@nordost.com
SUMMARY:Nuts About Hi-Fi Event
DESCRIPTION:  \nFROM NUTS ABOUT HI-FI: \n  \n\n\n  \nPlease mark your calendars for this event!\nSeptember 27th – 3:00 to 9:00 PM\nNuts About Hi-Fi Showroom\n9960 Silverdale Way\, Silverdale \nFor your listening pleasure\, we will be demonstrating Focal’s world renowned Stella Utopia EM EVO speaker system along with the best upstream audio components we have assembled to date: \nthe Focal Stella Utopia EVO EM \n \nConsidered by many audiophiles as the finest speaker system ever produced. Accolades include: \nAbsolute Sound Magazine’s\n2023 GOLDEN EAR AWARD\n“Speaker of the Year” \nTone Audio Magazine\n“THESE WILL TAKE YOUR BREATH AWAY” \nRepresentatives from our favorite manufacturers will be joining us to help answer any questions you may have. Refreshments will be provided. \nMore Than Just Great Sound\n\n\nMeet author Matt Whittaker and grab a signed copy of his popular coffee table book\, “360 Days of One Hit Wonders” \n\n\nEnjoy the musical-inspired artwork of Cory Bennett Anderson\, on display for the evening. \n\nDon’t miss this chance to immerse yourself in the pinnacle of audio technology\, surrounded by fellow enthusiasts who appreciate brilliant sound. \n  \n 
URL:https://nordost.com/blog/event/nuts-about-hi-fi-event/
LOCATION:Nuts About HiFi\, 9960 Silverdale Way #3\, Silverdale\, WA\, 98383
CATEGORIES:Nordost Dealer Event
ATTACH;FMTTYPE=image/jpeg:https://nordost.com/blog/wp-content/uploads/2024/09/Nuts-about-hifi-event_9-24.jpg
END:VEVENT
BEGIN:VEVENT
DTSTART;VALUE=DATE:20241005
DTEND;VALUE=DATE:20241007
DTSTAMP:20260423T024831
CREATED:20240621T144611Z
LAST-MODIFIED:20240621T145619Z
UID:8714-1728086400-1728259199@nordost.com
SUMMARY:Dutch Audio Event
DESCRIPTION:5 & ​​6 OCTOBER 2024 \n10:00am-5:00pm \nKONINGSHOF\, VELDHOVEN \nNetherlands \nwww.dutchaudioevent.nl \n 
URL:https://nordost.com/blog/event/dutch-audio-event-2/
LOCATION:Koningshof Hotel\, Veldhoven
CATEGORIES:Trade Shows
ATTACH;FMTTYPE=image/jpeg:https://nordost.com/blog/wp-content/uploads/2024/06/Dutch-Audio-Event_1_24.jpg
END:VEVENT
END:VCALENDAR