BEGIN:VCALENDAR
VERSION:2.0
PRODID:-//Nordost Blog - ECPv6.15.17//NONSGML v1.0//EN
CALSCALE:GREGORIAN
METHOD:PUBLISH
X-WR-CALNAME:Nordost Blog
X-ORIGINAL-URL:https://nordost.com/blog
X-WR-CALDESC:Events for Nordost Blog
REFRESH-INTERVAL;VALUE=DURATION:PT1H
X-Robots-Tag:noindex
X-PUBLISHED-TTL:PT1H
BEGIN:VTIMEZONE
TZID:America/New_York
BEGIN:DAYLIGHT
TZOFFSETFROM:-0500
TZOFFSETTO:-0400
TZNAME:EDT
DTSTART:20230312T070000
END:DAYLIGHT
BEGIN:STANDARD
TZOFFSETFROM:-0400
TZOFFSETTO:-0500
TZNAME:EST
DTSTART:20231105T060000
END:STANDARD
BEGIN:DAYLIGHT
TZOFFSETFROM:-0500
TZOFFSETTO:-0400
TZNAME:EDT
DTSTART:20240310T070000
END:DAYLIGHT
BEGIN:STANDARD
TZOFFSETFROM:-0400
TZOFFSETTO:-0500
TZNAME:EST
DTSTART:20241103T060000
END:STANDARD
BEGIN:DAYLIGHT
TZOFFSETFROM:-0500
TZOFFSETTO:-0400
TZNAME:EDT
DTSTART:20250309T070000
END:DAYLIGHT
BEGIN:STANDARD
TZOFFSETFROM:-0400
TZOFFSETTO:-0500
TZNAME:EST
DTSTART:20251102T060000
END:STANDARD
END:VTIMEZONE
BEGIN:VEVENT
DTSTART;VALUE=DATE:20241102
DTEND;VALUE=DATE:20241104
DTSTAMP:20260422T024958
CREATED:20240709T154242Z
LAST-MODIFIED:20240709T154242Z
UID:8736-1730505600-1730678399@nordost.com
SUMMARY:Hi-Files Show
DESCRIPTION:The Belgrade Audio/Video Technology Fair will be held on November 2nd and 3rd at the Holiday Inn Hotel in New Belgrade from 12:00 p.m. to 7:00 p.m. \nSince 2008 this show\, organized by Hi-Files Magazine\, has featured distributors and manufacturers of hi-fi equipment from Serbia\, Italy\, Slovenia\, Croatia\, and North Macedonia. \nwww.hi-files.show \n 
URL:https://nordost.com/blog/event/hi-files-show/
LOCATION:Holiday Inn\, Belgrade\, Serbia
CATEGORIES:Trade Shows
ATTACH;FMTTYPE=image/jpeg:https://nordost.com/blog/wp-content/uploads/2024/07/Hi-Files-show.jpg
END:VEVENT
BEGIN:VEVENT
DTSTART;VALUE=DATE:20241107
DTEND;VALUE=DATE:20241108
DTSTAMP:20260422T024958
CREATED:20240911T183158Z
LAST-MODIFIED:20240911T183250Z
UID:8857-1730937600-1731023999@nordost.com
SUMMARY:Eglantier Nordost Event
DESCRIPTION:Thursday 7th November \n15:00 and 19:00 \n  \nBattelsesteenweg 255 \n2800 Mechelen \nBelgium \n+32 1533 7952 \nRSVP: info@hifinesse.nl \n  \nwww.eglantierhifi.be/nl/home
URL:https://nordost.com/blog/event/eglantier-nordost-event/
CATEGORIES:Nordost Dealer Event
ATTACH;FMTTYPE=image/jpeg:https://nordost.com/blog/wp-content/uploads/2024/09/Eglantier_Nordost-event_1.jpg
END:VEVENT
BEGIN:VEVENT
DTSTART;VALUE=DATE:20241108
DTEND;VALUE=DATE:20241109
DTSTAMP:20260422T024958
CREATED:20240911T185747Z
LAST-MODIFIED:20240911T185747Z
UID:8862-1731024000-1731110399@nordost.com
SUMMARY:HiFi Solutions Nordost Event
DESCRIPTION:Friday 8th November \n19:30 \n  \nMuiderstraat 13-15-17 \n1011 PZ Amsterdam \nThe Netherlands \n  \nRSVP: info@hifinesse.nl
URL:https://nordost.com/blog/event/hifi-solutions-nordost-event/
CATEGORIES:Nordost Dealer Event
ATTACH;FMTTYPE=image/jpeg:https://nordost.com/blog/wp-content/uploads/2024/09/hifi-solutions_Nordost-event.jpg
END:VEVENT
BEGIN:VEVENT
DTSTART;VALUE=DATE:20241108
DTEND;VALUE=DATE:20241111
DTSTAMP:20260422T024958
CREATED:20240905T145450Z
LAST-MODIFIED:20240905T145450Z
UID:8816-1731024000-1731283199@nordost.com
SUMMARY:Capital Audiofest
DESCRIPTION:Washington DC’s Premier High-End Audio Festival\n\n\nNovember 8th – 10th\, 2024\nHilton Rockville\, Rockville Maryland\n\nCome Visit Nordost in Room: 757 \n\n \n\nFriday   10:00AM – 6:00PMSaturday   10:00AM – 6:00PMSunday   10:00AM – 4:00PM\n  \nPURCHASE TICKETS \n\n\n\n\n\n\nwww.capitalaudiofest.com
URL:https://nordost.com/blog/event/capital-audiofest-4/
LOCATION:The Hilton Rockville\, 1750 Rockville Pike\, Rockville\, MD\, 20852\, United States
CATEGORIES:Trade Shows
ATTACH;FMTTYPE=image/jpeg:https://nordost.com/blog/wp-content/uploads/2024/09/Capital-Audiofest_event_1.jpg
END:VEVENT
BEGIN:VEVENT
DTSTART;VALUE=DATE:20241116
DTEND;VALUE=DATE:20241118
DTSTAMP:20260422T024958
CREATED:20241016T154235Z
LAST-MODIFIED:20241016T154235Z
UID:8931-1731715200-1731887999@nordost.com
SUMMARY:November HiFi Show – Philippines
DESCRIPTION:Audio Visual Driver International is excited to feature a full loom of Nordost cabling in their system at the upcoming November HiFi Show in the Philippines.  Come listen\, November 16th and 17th at the Dusit Thani Hotel. Representatives from Wilson\, VTL\, and dCS will all be present.
URL:https://nordost.com/blog/event/november-hifi-show-philippines/
LOCATION:Dusit Thani Hotel\, Makati\, Philippines
CATEGORIES:Trade Shows
ATTACH;FMTTYPE=image/jpeg:https://nordost.com/blog/wp-content/uploads/2024/10/IMG_0634.jpeg
END:VEVENT
END:VCALENDAR