BEGIN:VCALENDAR
VERSION:2.0
PRODID:-//Nordost Blog - ECPv6.15.17//NONSGML v1.0//EN
CALSCALE:GREGORIAN
METHOD:PUBLISH
X-WR-CALNAME:Nordost Blog
X-ORIGINAL-URL:https://nordost.com/blog
X-WR-CALDESC:Events for Nordost Blog
REFRESH-INTERVAL;VALUE=DURATION:PT1H
X-Robots-Tag:noindex
X-PUBLISHED-TTL:PT1H
BEGIN:VTIMEZONE
TZID:America/New_York
BEGIN:DAYLIGHT
TZOFFSETFROM:-0500
TZOFFSETTO:-0400
TZNAME:EDT
DTSTART:20220313T070000
END:DAYLIGHT
BEGIN:STANDARD
TZOFFSETFROM:-0400
TZOFFSETTO:-0500
TZNAME:EST
DTSTART:20221106T060000
END:STANDARD
BEGIN:DAYLIGHT
TZOFFSETFROM:-0500
TZOFFSETTO:-0400
TZNAME:EDT
DTSTART:20230312T070000
END:DAYLIGHT
BEGIN:STANDARD
TZOFFSETFROM:-0400
TZOFFSETTO:-0500
TZNAME:EST
DTSTART:20231105T060000
END:STANDARD
BEGIN:DAYLIGHT
TZOFFSETFROM:-0500
TZOFFSETTO:-0400
TZNAME:EDT
DTSTART:20240310T070000
END:DAYLIGHT
BEGIN:STANDARD
TZOFFSETFROM:-0400
TZOFFSETTO:-0500
TZNAME:EST
DTSTART:20241103T060000
END:STANDARD
END:VTIMEZONE
BEGIN:VEVENT
DTSTART;VALUE=DATE:20230218
DTEND;VALUE=DATE:20230220
DTSTAMP:20260424T212348
CREATED:20230207T195240Z
LAST-MODIFIED:20230207T195240Z
UID:7507-1676678400-1676851199@nordost.com
SUMMARY:Stockholm High End Show
DESCRIPTION:2/18 – 2/19 \nSheraton Hotel \nTegelbacken 6\n101 23 Stockholm \nRoom: Haga 2 with Stylus Audio \nhighendmassan.se
URL:https://nordost.com/blog/event/stockholm-high-end-show/
LOCATION:Sheraton Hotel\, Tegelbacken 6 101 23\, Stockholm\, Sweden
CATEGORIES:Trade Shows
ATTACH;FMTTYPE=image/jpeg:https://nordost.com/blog/wp-content/uploads/2023/02/HEM_event.jpg
END:VEVENT
BEGIN:VEVENT
DTSTART;TZID=America/New_York:20230223T110000
DTEND;TZID=America/New_York:20230223T210000
DTSTAMP:20260424T212348
CREATED:20230213T161247Z
LAST-MODIFIED:20230213T161247Z
UID:7526-1677150000-1677186000@nordost.com
SUMMARY:Holm Audio Musical Event
DESCRIPTION:Holm Audio will be hosting a musical event on Thursday February 23rd from 11am until 9pm with representatives from Arcam\, JBL\, Mark Levinson\, Revel\, Kirmuss Audio\, Nordost and Cambridge Audio\, showcasing their latest offerings. Attendees are encouraged to bring a favorite LP to be restored by the Kirmuss process. Door prizes will be given away to every attendee\, and over $1\,000 worth of audio goodies will be raffled off. Join us for a fun and informative event! \nReservations required\, please call: (630) 663-1298 \n  \n \n  \nHolm Audio    \nThursday\, February 23 \n11am – 9pm \n2050 West 75th Street \nWoodridge IL 60517 \n\n 
URL:https://nordost.com/blog/event/holm-audio-musical-event/
LOCATION:Holm Audio\, 2050 West 75th St\, Woodridge\, IL\, 60517\, United States
CATEGORIES:Nordost Dealer Event
ATTACH;FMTTYPE=image/jpeg:https://nordost.com/blog/wp-content/uploads/2023/02/Holm_event.jpg
END:VEVENT
BEGIN:VEVENT
DTSTART;TZID=America/New_York:20230316T170000
DTEND;TZID=America/New_York:20230316T210000
DTSTAMP:20260424T212348
CREATED:20230213T162858Z
LAST-MODIFIED:20230213T162858Z
UID:7532-1678986000-1679000400@nordost.com
SUMMARY:Soundings Fine Audio Video Event
DESCRIPTION:Soundings    \nThursday\, March 16 \n5pm – 9pm \n9625 Arapahoe Suite L \nGreenwood Village CO 80112 \nRSVP:  (303) 759-5505 \nsales@soundingshifi.com \n  \n 
URL:https://nordost.com/blog/event/soundings-fine-audio-video-event/
LOCATION:Soundings\, 9625 Arapahoe Suite L\, Greenwood Village\, CO\, 80112\, United States
CATEGORIES:Nordost Dealer Event
ATTACH;FMTTYPE=image/jpeg:https://nordost.com/blog/wp-content/uploads/2023/02/Soundings_event.jpg
END:VEVENT
END:VCALENDAR