BEGIN:VCALENDAR
VERSION:2.0
PRODID:-//Nordost Blog - ECPv6.15.17//NONSGML v1.0//EN
CALSCALE:GREGORIAN
METHOD:PUBLISH
X-WR-CALNAME:Nordost Blog
X-ORIGINAL-URL:https://nordost.com/blog
X-WR-CALDESC:Events for Nordost Blog
REFRESH-INTERVAL;VALUE=DURATION:PT1H
X-Robots-Tag:noindex
X-PUBLISHED-TTL:PT1H
BEGIN:VTIMEZONE
TZID:America/New_York
BEGIN:DAYLIGHT
TZOFFSETFROM:-0500
TZOFFSETTO:-0400
TZNAME:EDT
DTSTART:20220313T070000
END:DAYLIGHT
BEGIN:STANDARD
TZOFFSETFROM:-0400
TZOFFSETTO:-0500
TZNAME:EST
DTSTART:20221106T060000
END:STANDARD
BEGIN:DAYLIGHT
TZOFFSETFROM:-0500
TZOFFSETTO:-0400
TZNAME:EDT
DTSTART:20230312T070000
END:DAYLIGHT
BEGIN:STANDARD
TZOFFSETFROM:-0400
TZOFFSETTO:-0500
TZNAME:EST
DTSTART:20231105T060000
END:STANDARD
BEGIN:DAYLIGHT
TZOFFSETFROM:-0500
TZOFFSETTO:-0400
TZNAME:EDT
DTSTART:20240310T070000
END:DAYLIGHT
BEGIN:STANDARD
TZOFFSETFROM:-0400
TZOFFSETTO:-0500
TZNAME:EST
DTSTART:20241103T060000
END:STANDARD
BEGIN:DAYLIGHT
TZOFFSETFROM:-0500
TZOFFSETTO:-0400
TZNAME:EDT
DTSTART:20250309T070000
END:DAYLIGHT
BEGIN:STANDARD
TZOFFSETFROM:-0400
TZOFFSETTO:-0500
TZNAME:EST
DTSTART:20251102T060000
END:STANDARD
END:VTIMEZONE
BEGIN:VEVENT
DTSTART;VALUE=DATE:20231014
DTEND;VALUE=DATE:20231016
DTSTAMP:20260421T101104
CREATED:20230804T202204Z
LAST-MODIFIED:20230804T202204Z
UID:7937-1697241600-1697414399@nordost.com
SUMMARY:Too Loud Fest 2023
DESCRIPTION:  \nSaturday 14th Oct:  10am to 8pm \nSunday 15th Oct:  10am to 6pm \n  \nDoubleTree by Hilton Hotel \nZagreb\, Croatia \n  \nwww.tooloudfest.com \n 
URL:https://nordost.com/blog/event/too-loud-fest-2023/
LOCATION:OH
CATEGORIES:Trade Shows
ATTACH;FMTTYPE=image/jpeg:https://nordost.com/blog/wp-content/uploads/2023/08/too-loud-fest-23_event.jpg
END:VEVENT
BEGIN:VEVENT
DTSTART;VALUE=DATE:20231027
DTEND;VALUE=DATE:20231030
DTSTAMP:20260421T101104
CREATED:20230804T202815Z
LAST-MODIFIED:20230804T202815Z
UID:7941-1698364800-1698623999@nordost.com
SUMMARY:Audio Video Show - Poland
DESCRIPTION:  \nPGE Narodowy Stadium \nAl.Ks.J.Poniatowskiego 1 \nWarsaw \n  \nFriday 27th Oct: 12pm to 8pm \nSaturday 28th Oct: 10am to 8pm \nSunday 29th Oct: 10am to 6pm \n  \nwww.audioshow.pl \n 
URL:https://nordost.com/blog/event/audio-video-show-poland-2/
LOCATION:PGE Narodowy
CATEGORIES:Trade Shows
ATTACH;FMTTYPE=image/jpeg:https://nordost.com/blog/wp-content/uploads/2023/08/Audio-video-show-23_event.jpg
END:VEVENT
BEGIN:VEVENT
DTSTART;VALUE=DATE:20231110
DTEND;VALUE=DATE:20231112
DTSTAMP:20260421T101104
CREATED:20230823T193853Z
LAST-MODIFIED:20230823T194053Z
UID:7969-1699574400-1699747199@nordost.com
SUMMARY:Capital Audiofest
DESCRIPTION:November 10 – November 12 \n\n\n\nRoom 757 \n\n\n\nTwinbrook Hilton Rockville\, MD \n\n\n\nwww.capitalaudiofest.com/event-details/capital-audiofest-2023 \n\n 
URL:https://nordost.com/blog/event/capital-audiofest-3/
LOCATION:OH
CATEGORIES:Trade Shows
ATTACH;FMTTYPE=image/png:https://nordost.com/blog/wp-content/uploads/2023/08/42eae3_9933a814d557432095545f3862ea64c3mv2.png
END:VEVENT
BEGIN:VEVENT
DTSTART;VALUE=DATE:20231111
DTEND;VALUE=DATE:20231113
DTSTAMP:20260421T101104
CREATED:20230804T203225Z
LAST-MODIFIED:20230804T203225Z
UID:7944-1699660800-1699833599@nordost.com
SUMMARY:Hi-Fi Ljubljana 2023
DESCRIPTION:  \nSaturday 11th Nov: 10am to 7pm \nSunday 12th Nov: 10am to 5pm \n  \nRadisson Blue Plaza \nLjubljana\, Slovenia \n  \nwww.hifi-ljubljana.org \n 
URL:https://nordost.com/blog/event/hi-fi-ljubljana-2023/
LOCATION:OH
CATEGORIES:Trade Shows
ATTACH;FMTTYPE=image/jpeg:https://nordost.com/blog/wp-content/uploads/2023/08/Hi-Fi-Ljubljana_event.jpg
END:VEVENT
BEGIN:VEVENT
DTSTART;TZID=America/New_York:20240119T120000
DTEND;TZID=America/New_York:20240119T200000
DTSTAMP:20260421T101104
CREATED:20240118T173506Z
LAST-MODIFIED:20240118T173506Z
UID:8236-1705665600-1705694400@nordost.com
SUMMARY:MOON North Collection Event at Ripcaster with Nordost
DESCRIPTION:When: Friday 19th January 2024 12:00 to 20:00 \nWhere: Ripcaster Showroom (RG8 0SP) \nHow: Please email info@ripcaster.co.uk or call 01183218292 to book \nJoin us on Friday 19th January 2024 to hear MOON by Sim Audio launch their North Collection\, equipped with Nordost cables and the Nordost QNET Network Switch.
URL:https://nordost.com/blog/event/moon-north-collection-event-at-ripcaster-with-nordost/
LOCATION:OH
ATTACH;FMTTYPE=image/jpeg:https://nordost.com/blog/wp-content/uploads/2024/01/moon-event-v3a.jpeg
END:VEVENT
BEGIN:VEVENT
DTSTART;VALUE=DATE:20240127
DTEND;VALUE=DATE:20240129
DTSTAMP:20260421T101104
CREATED:20240108T175215Z
LAST-MODIFIED:20240108T175215Z
UID:8190-1706313600-1706486399@nordost.com
SUMMARY:Vinterhub
DESCRIPTION:Event by Hifihub in Norway: \n  \nTrondheimsvegen-Jessheim 55\, 2050 Jessheim\, Norge \n27-28. Januar arrangerer vi Vinterhub\, årets første happening i villaen. Vi får besøk av en rekke spennende leverandører\, så sett av datoen for en uforglemmelig lydopplevelse! Mer info kommer. \n  \n  \n 
URL:https://nordost.com/blog/event/vinterhub/
LOCATION:OH
CATEGORIES:Nordost Dealer Event
ATTACH;FMTTYPE=image/jpeg:https://nordost.com/blog/wp-content/uploads/2024/01/416013042_122130716216048063_8105094447562206868_n.jpeg
END:VEVENT
END:VCALENDAR