BEGIN:VCALENDAR
VERSION:2.0
PRODID:-//Nordost Blog - ECPv6.15.17//NONSGML v1.0//EN
CALSCALE:GREGORIAN
METHOD:PUBLISH
X-WR-CALNAME:Nordost Blog
X-ORIGINAL-URL:https://nordost.com/blog
X-WR-CALDESC:Events for Nordost Blog
REFRESH-INTERVAL;VALUE=DURATION:PT1H
X-Robots-Tag:noindex
X-PUBLISHED-TTL:PT1H
BEGIN:VTIMEZONE
TZID:America/New_York
BEGIN:DAYLIGHT
TZOFFSETFROM:-0500
TZOFFSETTO:-0400
TZNAME:EDT
DTSTART:20230312T070000
END:DAYLIGHT
BEGIN:STANDARD
TZOFFSETFROM:-0400
TZOFFSETTO:-0500
TZNAME:EST
DTSTART:20231105T060000
END:STANDARD
BEGIN:DAYLIGHT
TZOFFSETFROM:-0500
TZOFFSETTO:-0400
TZNAME:EDT
DTSTART:20240310T070000
END:DAYLIGHT
BEGIN:STANDARD
TZOFFSETFROM:-0400
TZOFFSETTO:-0500
TZNAME:EST
DTSTART:20241103T060000
END:STANDARD
BEGIN:DAYLIGHT
TZOFFSETFROM:-0500
TZOFFSETTO:-0400
TZNAME:EDT
DTSTART:20250309T070000
END:DAYLIGHT
BEGIN:STANDARD
TZOFFSETFROM:-0400
TZOFFSETTO:-0500
TZNAME:EST
DTSTART:20251102T060000
END:STANDARD
END:VTIMEZONE
BEGIN:VEVENT
DTSTART;VALUE=DATE:20240315
DTEND;VALUE=DATE:20240318
DTSTAMP:20260420T163602
CREATED:20240102T152359Z
LAST-MODIFIED:20240102T153449Z
UID:8172-1710460800-1710719999@nordost.com
SUMMARY:Southwest Audio Fest 2024
DESCRIPTION:Show Schedule: \nFriday March 15       10AM – 6PM \nSaturday March 16   10AM – 6PM \nSunday March 17     10AM – 4PM \n\n\n  \nSeminars daily with live music in the evenings \nLocal Wine\, Beer  and Spirit Tastings \nHi-Fi Marketplace\, Vinyl Record Row \nPersonal Hi-Fi Head Zone  and of course dozens of listening rooms from start-up and cutting-edge technologies to cost-no-object aspirational gear\, and everything in between. \n\n  \nCome hear us in the Reference Analog room! \n  \nHilton Anatole\n2201 North Stemmons Freeway\nDallas\, TX 75207 \n  \nGET TICKETS \n 
URL:https://nordost.com/blog/event/southwest-audio-fest-2024/
LOCATION:Hilton Anatole\, 2201 North Stemmons Freeway\, Dallas\, Texas\, 75207\, United States
CATEGORIES:Trade Shows
ATTACH;FMTTYPE=image/jpeg:https://nordost.com/blog/wp-content/uploads/2024/01/Southwest-audio-fest_event.jpg
END:VEVENT
BEGIN:VEVENT
DTSTART;VALUE=DATE:20240316
DTEND;VALUE=DATE:20240317
DTSTAMP:20260420T163602
CREATED:20240311T170137Z
LAST-MODIFIED:20240311T170137Z
UID:8359-1710547200-1710633599@nordost.com
SUMMARY:A Special Vinyl Evening at JS Audio
DESCRIPTION:March 16th 4PM\n\n\nJS Audio is thrilled to share one of the finest vinyl playback systems in the world. They’ll have SME Audio’s Model 60 turntable on their Wilson Audio XVX Loudspeakers\, paired with Dan D’Agostino’s Momentum amplifications. Feel free to bring a CD or record! They’re expecting an open house\, set amongst a few carefully curated systems. Refreshments will be served! \n  \nJS Audio Bethesda\n4919 St Elmo Ave\, Bethesda\, MD 20814\n\n \nRSVP:\nCall: 301 656 7020\nemail: JSAudio@JSAudio.com
URL:https://nordost.com/blog/event/a-special-vinyl-evening-at-js-audio/
LOCATION:JS Audio\, 4919 St. Elmo Ave\, Bethesda\, MD\, 00814\, United States
CATEGORIES:Nordost Dealer Event
ATTACH;FMTTYPE=image/jpeg:https://nordost.com/blog/wp-content/uploads/2024/03/JS-AUDIO-Event_24.jpg
END:VEVENT
BEGIN:VEVENT
DTSTART;VALUE=DATE:20240322
DTEND;VALUE=DATE:20240325
DTSTAMP:20260420T163602
CREATED:20240305T172811Z
LAST-MODIFIED:20240305T172811Z
UID:8334-1711065600-1711324799@nordost.com
SUMMARY:Montréal Audiofest
DESCRIPTION:An audio enthusiast’s paradise! \n\nCelebrating its 35th edition this year\, Montreal Audiofest remains the must-attend event for audiophiles. This long-standing tradition showcases the latest advances in high-fidelity audio equipment\, featuring over 300 speaker brands\, innovative music streamers and high-quality headphones. \n\nAttendees engage with sound experts and industry insiders\, immersing themselves in music through some of the finest audio systems available. \n\nThis event surpasses mere product demonstrations\, offering enlightening talks by renowned speakers spanning audio history to technological advancements. Whether a seasoned audiophile or a curious newcomer\, the Montreal Audiofest guarantees an immersive exploration into the realm of high-quality sound\, establishing itself as a must-visit for anyone passionate about experiencing music’s profound impact through superior audio technology. \n\n  \nMarch 22 – 24\, 2024 \nRoom: Westmount 4 \nHôtel Bonaventure \n900 Rue De la Gauchetière O\, \nMontréal\, QC H5A 1E4 CAN \n  \naudiofest.ca/fr/montreal/ \n  \n 
URL:https://nordost.com/blog/event/montreal-audiofest/
LOCATION:Hotel Bonaventure\, 900 Rue de la Gauchetière O\, Montréal\, QC\, H5A 1E4\, Canada
CATEGORIES:Trade Shows
ATTACH;FMTTYPE=image/jpeg:https://nordost.com/blog/wp-content/uploads/2024/03/Montreal-Audiofest_event_24.jpg
END:VEVENT
BEGIN:VEVENT
DTSTART;TZID=America/New_York:20240328T170000
DTEND;TZID=America/New_York:20240328T200000
DTSTAMP:20260420T163602
CREATED:20240222T214834Z
LAST-MODIFIED:20240222T214834Z
UID:8292-1711645200-1711656000@nordost.com
SUMMARY:Upscale Audio – Sounds of Spring
DESCRIPTION:  \nMarch 28th \n5pm – 8pm \n  \nRepresentatives from Nordost\, Fyne Audio\, and T + A Elektroakustik will be on hand to discuss and demonstrate their products. \n  \n2058 Wright Ave\, La Verne\, CA 91750 \n  \n(909) 931-9686 \nwww.upscaleaudio.com \n 
URL:https://nordost.com/blog/event/upscale-audio-sounds-of-spring/
CATEGORIES:Nordost Dealer Event
ATTACH;FMTTYPE=image/jpeg:https://nordost.com/blog/wp-content/uploads/2024/02/324093139_931318348040262_8051815937815015248_n.jpeg
END:VEVENT
END:VCALENDAR