BEGIN:VCALENDAR
VERSION:2.0
PRODID:-//Nordost Blog - ECPv6.15.17//NONSGML v1.0//EN
CALSCALE:GREGORIAN
METHOD:PUBLISH
X-ORIGINAL-URL:https://nordost.com/blog
X-WR-CALDESC:Events for Nordost Blog
REFRESH-INTERVAL;VALUE=DURATION:PT1H
X-Robots-Tag:noindex
X-PUBLISHED-TTL:PT1H
BEGIN:VTIMEZONE
TZID:America/New_York
BEGIN:DAYLIGHT
TZOFFSETFROM:-0500
TZOFFSETTO:-0400
TZNAME:EDT
DTSTART:20210314T070000
END:DAYLIGHT
BEGIN:STANDARD
TZOFFSETFROM:-0400
TZOFFSETTO:-0500
TZNAME:EST
DTSTART:20211107T060000
END:STANDARD
BEGIN:DAYLIGHT
TZOFFSETFROM:-0500
TZOFFSETTO:-0400
TZNAME:EDT
DTSTART:20220313T070000
END:DAYLIGHT
BEGIN:STANDARD
TZOFFSETFROM:-0400
TZOFFSETTO:-0500
TZNAME:EST
DTSTART:20221106T060000
END:STANDARD
BEGIN:DAYLIGHT
TZOFFSETFROM:-0500
TZOFFSETTO:-0400
TZNAME:EDT
DTSTART:20230312T070000
END:DAYLIGHT
BEGIN:STANDARD
TZOFFSETFROM:-0400
TZOFFSETTO:-0500
TZNAME:EST
DTSTART:20231105T060000
END:STANDARD
END:VTIMEZONE
BEGIN:VEVENT
DTSTART;VALUE=DATE:20220422
DTEND;VALUE=DATE:20220425
DTSTAMP:20260425T203619
CREATED:20220421T123025Z
LAST-MODIFIED:20220421T123025Z
UID:6798-1650585600-1650844799@nordost.com
SUMMARY:AXPONA 2022
DESCRIPTION:  \nAfter a long hiatus\, it’s time to go back to AXPONA! Come and see Nordost April 22nd-24th\, at the Renaissance Schaumburg Hotel & Convention Center\, Chicago in the Schaumburg F room.  We are bringing together some of the leading brands of in the industry to give Axpona attendees a truly world-class listening experience. With top-of-the line equipment from Stenheim\, VTL\, Wadax\, VPI\, and of course\, Nordost\, you don’t want to miss this impressive reference system. In addition to our showcase system in Schaumburg F\, featuring a full loom of our Odin 2 cables\, Nordost will also be performing our renowned live demonstrations and product comparisons in room 739. It’s been a long time since we have been able to visit the AXPONA audience in Chicago\, and we can’t wait to see you all again!
URL:https://nordost.com/blog/event/axpona-2022/
CATEGORIES:Trade Shows
ATTACH;FMTTYPE=image/jpeg:https://nordost.com/blog/wp-content/uploads/2022/04/Axpona-blog-image_2.jpg
END:VEVENT
END:VCALENDAR