BEGIN:VCALENDAR
VERSION:2.0
PRODID:-//Nordost Blog - ECPv6.15.17//NONSGML v1.0//EN
CALSCALE:GREGORIAN
METHOD:PUBLISH
X-ORIGINAL-URL:https://nordost.com/blog
X-WR-CALDESC:Events for Nordost Blog
REFRESH-INTERVAL;VALUE=DURATION:PT1H
X-Robots-Tag:noindex
X-PUBLISHED-TTL:PT1H
BEGIN:VTIMEZONE
TZID:America/New_York
BEGIN:DAYLIGHT
TZOFFSETFROM:-0500
TZOFFSETTO:-0400
TZNAME:EDT
DTSTART:20210314T070000
END:DAYLIGHT
BEGIN:STANDARD
TZOFFSETFROM:-0400
TZOFFSETTO:-0500
TZNAME:EST
DTSTART:20211107T060000
END:STANDARD
BEGIN:DAYLIGHT
TZOFFSETFROM:-0500
TZOFFSETTO:-0400
TZNAME:EDT
DTSTART:20220313T070000
END:DAYLIGHT
BEGIN:STANDARD
TZOFFSETFROM:-0400
TZOFFSETTO:-0500
TZNAME:EST
DTSTART:20221106T060000
END:STANDARD
BEGIN:DAYLIGHT
TZOFFSETFROM:-0500
TZOFFSETTO:-0400
TZNAME:EDT
DTSTART:20230312T070000
END:DAYLIGHT
BEGIN:STANDARD
TZOFFSETFROM:-0400
TZOFFSETTO:-0500
TZNAME:EST
DTSTART:20231105T060000
END:STANDARD
END:VTIMEZONE
BEGIN:VEVENT
DTSTART;VALUE=DATE:20220519
DTEND;VALUE=DATE:20220523
DTSTAMP:20260425T233332
CREATED:20220421T124349Z
LAST-MODIFIED:20220505T161228Z
UID:6802-1652918400-1653263999@nordost.com
SUMMARY:HIGH END – Munich 2022
DESCRIPTION:Nordost is thrilled to finally be exhibiting again at the High End 2022 Show in Munich\, held at the MOC May 19-22. We are excited to be introducing several new products that have been released over the course of our two year hiatus\, and to show attendees what we have been working on! Throughout the show\, product trainers and specialists Bjorn Bengtsson\, Alex Brady\, and Dennis Bonotto will be performing live demonstrations and answering questions in (Halle 4) Atrium 4\, Room E112. High End 2022 should be a fantastic show\, and we hope to see you all there! \nhttps://www.youtube.com/watch?v=T9t4q9W_yFI
URL:https://nordost.com/blog/event/high-end-munich-2022/
ATTACH;FMTTYPE=image/jpeg:https://nordost.com/blog/wp-content/uploads/2022/05/high-end-2022_fbook.jpg
END:VEVENT
END:VCALENDAR