BEGIN:VCALENDAR
VERSION:2.0
PRODID:-//Nordost Blog - ECPv6.15.17//NONSGML v1.0//EN
CALSCALE:GREGORIAN
METHOD:PUBLISH
X-WR-CALNAME:Nordost Blog
X-ORIGINAL-URL:https://nordost.com/blog
X-WR-CALDESC:Events for Nordost Blog
REFRESH-INTERVAL;VALUE=DURATION:PT1H
X-Robots-Tag:noindex
X-PUBLISHED-TTL:PT1H
BEGIN:VTIMEZONE
TZID:America/New_York
BEGIN:DAYLIGHT
TZOFFSETFROM:-0500
TZOFFSETTO:-0400
TZNAME:EDT
DTSTART:20210314T070000
END:DAYLIGHT
BEGIN:STANDARD
TZOFFSETFROM:-0400
TZOFFSETTO:-0500
TZNAME:EST
DTSTART:20211107T060000
END:STANDARD
BEGIN:DAYLIGHT
TZOFFSETFROM:-0500
TZOFFSETTO:-0400
TZNAME:EDT
DTSTART:20220313T070000
END:DAYLIGHT
BEGIN:STANDARD
TZOFFSETFROM:-0400
TZOFFSETTO:-0500
TZNAME:EST
DTSTART:20221106T060000
END:STANDARD
BEGIN:DAYLIGHT
TZOFFSETFROM:-0500
TZOFFSETTO:-0400
TZNAME:EDT
DTSTART:20230312T070000
END:DAYLIGHT
BEGIN:STANDARD
TZOFFSETFROM:-0400
TZOFFSETTO:-0500
TZNAME:EST
DTSTART:20231105T060000
END:STANDARD
END:VTIMEZONE
BEGIN:VEVENT
DTSTART;VALUE=DATE:20221021
DTEND;VALUE=DATE:20221024
DTSTAMP:20260424T182230
CREATED:20220823T153549Z
LAST-MODIFIED:20220823T153549Z
UID:7226-1666310400-1666569599@nordost.com
SUMMARY:Toronto Audiofest
DESCRIPTION:October 21 – October 23 \nThe Westin Toronto Airport Hotel \nToronto\, ON Canada \nRoom 337 with Sonic Artistry \ntorontoaudiofest.org \n 
URL:https://nordost.com/blog/event/toronto-audiofest/
LOCATION:The Westin Toronto Airport Hotel\, Toronto\, Canada
CATEGORIES:Trade Shows
ATTACH;FMTTYPE=image/jpeg:https://nordost.com/blog/wp-content/uploads/2022/08/Toronto-Audiofest_2022_event.jpg
END:VEVENT
END:VCALENDAR